BEGIN:VCALENDAR
VERSION:2.0
PRODID:-//Orchard Valley Farms &amp; Black Bridge Winery - ECPv6.15.20//NONSGML v1.0//EN
CALSCALE:GREGORIAN
METHOD:PUBLISH
X-ORIGINAL-URL:https://orchardvalleyfarms.com
X-WR-CALDESC:Events for Orchard Valley Farms &amp; Black Bridge Winery
REFRESH-INTERVAL;VALUE=DURATION:PT1H
X-Robots-Tag:noindex
X-PUBLISHED-TTL:PT1H
BEGIN:VTIMEZONE
TZID:UTC
BEGIN:STANDARD
TZOFFSETFROM:+0000
TZOFFSETTO:+0000
TZNAME:UTC
DTSTART:20220101T000000
END:STANDARD
END:VTIMEZONE
BEGIN:VEVENT
DTSTART;TZID=UTC:20231104T100000
DTEND;TZID=UTC:20231104T170000
DTSTAMP:20260425T103016
CREATED:20180725T020426Z
LAST-MODIFIED:20230915T155017Z
UID:1991-1699092000-1699117200@orchardvalleyfarms.com
SUMMARY:End of the Season
DESCRIPTION: Our last day at the farm this season is Nov 4th.  Thank you for a wonderful 2023 season and lots of great memories!  \nOct. 30 thru Nov. 4th we will close at 5:00pm.  \nRemember our online store is open year ’round for orders and gift-giving. Don’t worry if you can’t stop by! Please call us at 970-270-7733 if you have questions or need help with your orders.
URL:https://orchardvalleyfarms.com/event/celebrate-customer-appreciation-day-end-season-sale/
CATEGORIES:home
ATTACH;FMTTYPE=image/jpeg:https://orchardvalleyfarms.com/wp-content/uploads/2016/06/Wine-bottle-line-up-5-e1466018577649.jpg
END:VEVENT
BEGIN:VEVENT
DTSTART;TZID=UTC:20231104T100000
DTEND;TZID=UTC:20231104T170000
DTSTAMP:20260425T103016
CREATED:20180724T204031Z
LAST-MODIFIED:20230915T154626Z
UID:832-1699092000-1699117200@orchardvalleyfarms.com
SUMMARY:Customer Appreciation Day
DESCRIPTION:Customer Appreciation Day:\nPlan to spend your Saturday\, Nov 4th at Orchard Valley Farms and Black Bridge Winery\, for Customer Appreciation Day and our last open day of the season! From 11 am to 5pm\, we will honor our customers with our handmade wood-fired pizza and fresh-pressed apple cider. Enjoy a glass of your favorite Black Bridge wine while taking in the majestic views for the last time this season!\n \nTake advantage of our end of season sale on Nov 4th.  Great time to stock up for the holidays!  \n 
URL:https://orchardvalleyfarms.com/event/customer-appreciation-day/
LOCATION:Orchard Valley Farms\, 15836 Black Bridge Road\, Paonia\, CO\, 81428\, United States
CATEGORIES:home,standard
ATTACH;FMTTYPE=image/png:https://orchardvalleyfarms.com/wp-content/uploads/2016/03/wines-for-sale.png
END:VEVENT
END:VCALENDAR